BEGIN:VCALENDAR
VERSION:2.0
PRODID:-//LinkMuslim - ECPv6.15.14//NONSGML v1.0//EN
CALSCALE:GREGORIAN
METHOD:PUBLISH
X-WR-CALNAME:LinkMuslim
X-ORIGINAL-URL:https://linkmuslim.com
X-WR-CALDESC:Events for LinkMuslim
REFRESH-INTERVAL;VALUE=DURATION:PT1H
X-Robots-Tag:noindex
X-PUBLISHED-TTL:PT1H
BEGIN:VTIMEZONE
TZID:UTC
BEGIN:STANDARD
TZOFFSETFROM:+0000
TZOFFSETTO:+0000
TZNAME:UTC
DTSTART:20240101T000000
END:STANDARD
END:VTIMEZONE
BEGIN:VEVENT
DTSTART;TZID=UTC:20250927T080000
DTEND;TZID=UTC:20250928T170000
DTSTAMP:20260419T130908
CREATED:20250925T212410Z
LAST-MODIFIED:20250925T213842Z
UID:1944-1758960000-1759078800@linkmuslim.com
SUMMARY:Group Running Class - Saturday & Sunday
DESCRIPTION:Your Running Class\, Simplified: \n\n🏃‍♂️ The Session:\n\nWarm-up drills\nTechnique coaching\nMain workout (changes weekly: intervals\, hills\, tempo\, etc.)\nStatic stretching\n\n\n🎯 The Goals:\n\nTrain safely in a motivated group.\nImprove your technique with expert feedback.\nIncrease strength\, speed\, and endurance.\nHave fun and meet new people!\n\n\nℹ️ The Details:\n\nFor: All ages and abilities.\nGroup Size: 10-15 people on average.
URL:https://linkmuslim.com/event/group-running-class-saturday-sunday/
LOCATION:ABC Language school\, 145 West 30th Street\,\, New York\, United States
CATEGORIES:Health & Wellness
ATTACH;FMTTYPE=image/jpeg:https://linkmuslim.com/wp-content/uploads/2025/09/01.jpg
END:VEVENT
END:VCALENDAR