BEGIN:VCALENDAR
VERSION:2.0
PRODID:-//LinkMuslim - ECPv6.15.14//NONSGML v1.0//EN
CALSCALE:GREGORIAN
METHOD:PUBLISH
X-ORIGINAL-URL:https://linkmuslim.com
X-WR-CALDESC:Events for LinkMuslim
REFRESH-INTERVAL;VALUE=DURATION:PT1H
X-Robots-Tag:noindex
X-PUBLISHED-TTL:PT1H
BEGIN:VTIMEZONE
TZID:UTC
BEGIN:STANDARD
TZOFFSETFROM:+0000
TZOFFSETTO:+0000
TZNAME:UTC
DTSTART:20240101T000000
END:STANDARD
END:VTIMEZONE
BEGIN:VEVENT
DTSTART;TZID=UTC:20250927T080000
DTEND;TZID=UTC:20250928T170000
DTSTAMP:20260419T132913
CREATED:20250925T215538Z
LAST-MODIFIED:20250925T215642Z
UID:1949-1758960000-1759078800@linkmuslim.com
SUMMARY:Make New Friends - Coffee and LIVE Chat
DESCRIPTION:Event Summary: Coffee & Chat Live at Union \,  Mall* \nWe’re excited for a live\, in-person gathering! Join us for great coffee and genuine conversations. \nEvent Details:**\n*Theme: Coffee\, Chat\, and Community\nVenue:** Union Mall\nCost:Free entrance. Please support the venue by purchasing at least one drink. \n\nAbout Us:\nCoffee and Chat Club (CnC) is a community built on friendship and a sense of belonging. As we approach our 6-year anniversary\, our mission remains to improve lives through genuine connection and an uplifting culture.\nWhat to Expect:\nA welcoming space to make new friends and strengthen existing friendships.\nA casual\, “free and easy” atmosphere—feel free to come late or leave early.\nOptional post-chat activities like dinner at the mall or a Mamak/McDonalds hangout.\nCommunity Guidelines (Please Read Before RSVP):**\nTo ensure a positive experience for everyone\, we uphold the following values. Please respect our **”GO RSVP”** principles: Be Grateful\, Optimistic\, Respectful\, wear a Smile\, aim to Value-Add\, and Participate.\nWe have a strict “4 DON’TS” policy. Please avoid topics/conversations related to:\nReligion\nPolitics\nSexual Harassment\nPersonal Attacks\nRSVP Instructions:\nYour MeetUp profile must show your real name and a clear profile photo.\nEach RSVP is individually reviewed.\nWe look forward to seeing you there for an awesome evening!\nFor inquiries\, buzz:\nm\, Founder\, Coffee and Chat Club (CnC)
URL:https://linkmuslim.com/event/make-new-friends-coffee-and-live-chat/
CATEGORIES:Make New Friends
ATTACH;FMTTYPE=image/jpeg:https://linkmuslim.com/wp-content/uploads/2025/09/04.jpg
END:VEVENT
END:VCALENDAR